BEGIN:VCALENDAR
VERSION:2.0
PRODID:-//rm//event//DE
METHOD:REQUEST
NAME:rm
X-WR-CALNAME:rm
BEGIN:VEVENT
UID:677ccf71-ae4c-47e8-b286-2899bcd8b7dc
SEQUENCE:0
DTSTAMP:20260423T161819Z
DTSTART:20261106T230000Z
DTEND:20261107T230000Z
SUMMARY:Jobmesse Kiel
LOCATION:Autohaus Süvercup\, Kiel
DESCRIPTION:Weitere Informationen
URL;VALUE=URI:https://www.rheinmetall.com/de/events/2026/karriere/jobmesse
 -kiel
END:VEVENT
END:VCALENDAR