BEGIN:VCALENDAR
VERSION:2.0
PRODID:-//rm//event//DE
METHOD:REQUEST
NAME:rm
X-WR-CALNAME:rm
BEGIN:VEVENT
UID:d49839ea-dac2-41b2-a3e7-986543228ecb
SEQUENCE:0
DTSTAMP:20260423T150236Z
DTSTART:20261106T230000Z
DTEND:20261107T230000Z
SUMMARY:Kiel Job Fair
LOCATION:Autohaus Süvercup\, Kiel
DESCRIPTION:/ Further Information
URL;VALUE=URI:https://www.rheinmetall.com/en/events/2026/career/kiel-job-f
 air
END:VEVENT
END:VCALENDAR