BEGIN:VCALENDAR
VERSION:2.0
PRODID:-//rm//event//DE
METHOD:REQUEST
NAME:rm
X-WR-CALNAME:rm
BEGIN:VEVENT
UID:eeccfe87-24aa-427f-9166-f71a516ee798
SEQUENCE:0
DTSTAMP:20260421T044049Z
DTSTART:20260706T220000Z
DTEND:20260706T220000Z
SUMMARY:BFD-Jobmesse Sanitz
LOCATION:Siebenbuche-Kaserne\, Sülzer Str. 10\, 18190 Sanitz\, de
DESCRIPTION:/ Informationen folgen.
URL;VALUE=URI:https://www.rheinmetall.com/de/events/2026/soldat-innen/bfd-
 jobmesse-sanitz
END:VEVENT
END:VCALENDAR