BEGIN:VCALENDAR
VERSION:2.0
PRODID:-//rm//event//DE
METHOD:REQUEST
NAME:rm
X-WR-CALNAME:rm
BEGIN:VEVENT
UID:598bcd80-6974-466a-8843-98ee596d63fa
SEQUENCE:0
DTSTAMP:20260421T043808Z
DTSTART:20260923T080000Z
DTEND:20260923T080000Z
SUMMARY:BFD-Jobmesse Minden
LOCATION:Herzog-von-Braunschweig-Kaserne\, Wettinerallee 15\, 32429 Minden
 \, de
DESCRIPTION:/ Informationen folgen.
URL;VALUE=URI:https://www.rheinmetall.com/de/events/2026/soldat-innen/bfd-
 jobmesse-minden
END:VEVENT
END:VCALENDAR