BEGIN:VCALENDAR
VERSION:2.0
PRODID:-//rm//event//DE
METHOD:REQUEST
NAME:rm
X-WR-CALNAME:rm
BEGIN:VEVENT
UID:253595ef-7014-4990-a3ae-ea3d28765f03
SEQUENCE:0
DTSTAMP:20260421T044043Z
DTSTART:20261015T100000Z
DTEND:20261015T100000Z
SUMMARY:Unternehmens- und Karriereforum der Universität der Bundeswehr M
 ünchen
LOCATION:Universität der Bundeswehr München
DESCRIPTION:/ Informationen folgen.
URL;VALUE=URI:https://www.rheinmetall.com/de/events/2026/soldat-innen/unte
 rnehmens-und-karriereforum-der-universitaet-der-bundeswehr-muenchen
END:VEVENT
END:VCALENDAR