BEGIN:VCALENDAR
VERSION:2.0
PRODID:-//rm//event//DE
METHOD:REQUEST
NAME:rm
X-WR-CALNAME:rm
BEGIN:VEVENT
UID:f26433dc-0ed7-441f-8fdc-d0316a1ccbdc
SEQUENCE:0
DTSTAMP:20260421T043946Z
DTSTART:20261118T090000Z
DTEND:20261118T090000Z
SUMMARY:BFD-Jobmesse
LOCATION:Pionierkaserne auf der Schanz\, Manchinger Str 1\, 85053 Ingolsta
 dt\, de
DESCRIPTION:/ Informationen folgen.
URL;VALUE=URI:https://www.rheinmetall.com/de/events/2026/soldat-innen/bfd-
 jobmesse
END:VEVENT
END:VCALENDAR