BEGIN:VCALENDAR
VERSION:2.0
PRODID:-//rm//event//DE
METHOD:REQUEST
NAME:rm
X-WR-CALNAME:rm
BEGIN:VEVENT
UID:631edde4-2e1f-4b02-9f7b-51b6d0eb616c
SEQUENCE:0
DTSTAMP:20260424T035538Z
DTSTART:20260426T220000Z
DTEND:20260426T220000Z
SUMMARY:Stellenbörse Weeze
LOCATION:Bürgerhaus Weeze
DESCRIPTION:
URL;VALUE=URI:https://www.rheinmetall.com/de/events/2026/karriere/stellenb
 oerse-weeze
END:VEVENT
END:VCALENDAR